BEGIN:VCALENDAR
VERSION:2.0
PRODID:-//Town of Cicero Indiana - ECPv6.15.17//NONSGML v1.0//EN
CALSCALE:GREGORIAN
METHOD:PUBLISH
X-WR-CALNAME:Town of Cicero Indiana
X-ORIGINAL-URL:https://www.ciceroin.org
X-WR-CALDESC:Events for Town of Cicero Indiana
REFRESH-INTERVAL;VALUE=DURATION:PT1H
X-Robots-Tag:noindex
X-PUBLISHED-TTL:PT1H
BEGIN:VTIMEZONE
TZID:America/Indiana/Indianapolis
BEGIN:DAYLIGHT
TZOFFSETFROM:-0500
TZOFFSETTO:-0400
TZNAME:EDT
DTSTART:20190310T070000
END:DAYLIGHT
BEGIN:STANDARD
TZOFFSETFROM:-0400
TZOFFSETTO:-0500
TZNAME:EST
DTSTART:20191103T060000
END:STANDARD
BEGIN:DAYLIGHT
TZOFFSETFROM:-0500
TZOFFSETTO:-0400
TZNAME:EDT
DTSTART:20200308T070000
END:DAYLIGHT
BEGIN:STANDARD
TZOFFSETFROM:-0400
TZOFFSETTO:-0500
TZNAME:EST
DTSTART:20201101T060000
END:STANDARD
BEGIN:DAYLIGHT
TZOFFSETFROM:-0500
TZOFFSETTO:-0400
TZNAME:EDT
DTSTART:20210314T070000
END:DAYLIGHT
BEGIN:STANDARD
TZOFFSETFROM:-0400
TZOFFSETTO:-0500
TZNAME:EST
DTSTART:20211107T060000
END:STANDARD
END:VTIMEZONE
BEGIN:VEVENT
DTSTART;TZID=America/Indiana/Indianapolis:20200514T190000
DTEND;TZID=America/Indiana/Indianapolis:20200514T210000
DTSTAMP:20260419T133301
CREATED:20200108T144832Z
LAST-MODIFIED:20200514T190527Z
UID:6757-1589482800-1589490000@www.ciceroin.org
SUMMARY:* CANCELLED* - 7:00pm - Town Council Staff meeting
DESCRIPTION:The Cicero Town Council will have the following Staff meetings at 7:00pm at Cicero Town Hall located at 70 N Byron Street: \n\nMay 14th – CANCELLED\nJune 11th\nJuly 16th\nAugust 13th\nSeptember 10th\nOctober 15th\nNovember 12th\nDecember 10th\n\nIf you have any questions about the meeting or agenda\, please contact the Clerk Treasurer’s office at 317-984-4900.
URL:https://www.ciceroin.org/event/700pm-town-council-staff-meeting-2/
LOCATION:Town Hall\, 70 N Byron Street\, Cicero\, IN\, 46034\, United States
END:VEVENT
END:VCALENDAR