BEGIN:VCALENDAR
VERSION:2.0
PRODID:-//Town of Cicero Indiana - ECPv6.15.17//NONSGML v1.0//EN
CALSCALE:GREGORIAN
METHOD:PUBLISH
X-ORIGINAL-URL:https://www.ciceroin.org
X-WR-CALDESC:Events for Town of Cicero Indiana
REFRESH-INTERVAL;VALUE=DURATION:PT1H
X-Robots-Tag:noindex
X-PUBLISHED-TTL:PT1H
BEGIN:VTIMEZONE
TZID:America/Indiana/Indianapolis
BEGIN:DAYLIGHT
TZOFFSETFROM:-0500
TZOFFSETTO:-0400
TZNAME:EDT
DTSTART:20190310T070000
END:DAYLIGHT
BEGIN:STANDARD
TZOFFSETFROM:-0400
TZOFFSETTO:-0500
TZNAME:EST
DTSTART:20191103T060000
END:STANDARD
BEGIN:DAYLIGHT
TZOFFSETFROM:-0500
TZOFFSETTO:-0400
TZNAME:EDT
DTSTART:20200308T070000
END:DAYLIGHT
BEGIN:STANDARD
TZOFFSETFROM:-0400
TZOFFSETTO:-0500
TZNAME:EST
DTSTART:20201101T060000
END:STANDARD
BEGIN:DAYLIGHT
TZOFFSETFROM:-0500
TZOFFSETTO:-0400
TZNAME:EDT
DTSTART:20210314T070000
END:DAYLIGHT
BEGIN:STANDARD
TZOFFSETFROM:-0400
TZOFFSETTO:-0500
TZNAME:EST
DTSTART:20211107T060000
END:STANDARD
END:VTIMEZONE
BEGIN:VEVENT
DTSTART;TZID=America/Indiana/Indianapolis:20200618T190000
DTEND;TZID=America/Indiana/Indianapolis:20200618T210000
DTSTAMP:20260424T233835
CREATED:20200107T200325Z
LAST-MODIFIED:20200618T185359Z
UID:6736-1592506800-1592514000@www.ciceroin.org
SUMMARY:7:00pm - BZA meeting
DESCRIPTION:Cicero Jackson Township Plan Commission and BZA Meeting Dates 2020 \n*Meetings will be held at Red Bridge Community Building at 697 West Jackson Street until further notice. \nAll meetings will be at the Town Hall \n70 N. Bryon Street\, Cicero\, IN \nPlan Commission and BZA Meetings @ 7:00 PM \nPlan Commission Meeting Dates              BZA Meeting Dates \n  \n06/10/20                                                               06/18/20 \n07/15/20                                                               07/23/20 \n08/12/20                                                               08/20/20 \n09/09/20                                                               09/17/20 \n10/14/20                                                               10/22/20 \n11/10/20                                                               11/19/20 \n12/09/20                                                               12/17/20 \n 
URL:https://www.ciceroin.org/event/700pm-bza-meeting-6/
LOCATION:Town Hall\, 70 N Byron Street\, Cicero\, IN\, 46034\, United States
END:VEVENT
END:VCALENDAR